BEGIN:VCALENDAR
VERSION:2.0
PRODID:-//gyrobase/iCalendar//NONSGML v1.0//EN
BEGIN:VEVENT
LOCATION:12 N. Saginaw St.\,Pontiac\, \,Pontiac\, MI\, 48342
DTSTART:20261113T200000
DTEND:20261113T210000
SUMMARY:Choir! Choir! Choir!
DESCRIPTION:
LOCATION;ALTREP="https://www.metrotimes.com/location/flagstar-strand-theatre-for-the-performing-arts-19526220":Flagstar Strand Theatre for the Performing Arts @ 12 N. Saginaw St.\,Pontiac\,MI  48342
CATEGORIES:Live/Concert
END:VEVENT
END:VCALENDAR