BEGIN:VCALENDAR
VERSION:2.0
PRODID:-//gyrobase/iCalendar//NONSGML v1.0//EN
BEGIN:VEVENT
LOCATION:8600 Wickham Road\,Romulus\, \,Romulus\, MI\, 48174
DTSTART:20260507T083000
DTEND:20260507T170000
SUMMARY:Manufacturing Excellence Summit: Automotive Leaders Forum
DESCRIPTION:A high-impact event for Tier 2 and Tier 3 automotive manufacturers focused on operational performance\, forecasting\, and digital transformation. Join automotive leaders and industry experts for practical insight into today’s most pressing manufacturing challenges. Reserve Your Spot! Automotive suppliers are navigating constant pressure from every direction. Forecast volatility is disrupting planning. Margins are tightening under rising costs. OEM requirements for EDI and compliance continue to increase. Workforce challenges and automation demands are accelerating. The Automotive Leaders Forum is designed to bring together manufacturing leaders to share strategies\, insights\, and practical approaches to these challenges. Price: Free
LOCATION;ALTREP="https://www.metrotimes.com/location/embassy-suites-by-hilton-detroit-metro-airport-22051291":Embassy Suites by Hilton Detroit Metro Airport @ 8600 Wickham Road\,Romulus\,MI  48174
CATEGORIES:Lectures & Classes
END:VEVENT
END:VCALENDAR