BEGIN:VCALENDAR
VERSION:2.0
PRODID:-//gyrobase/iCalendar//NONSGML v1.0//EN
BEGIN:VEVENT
LOCATION:12 N. Saginaw St.\,Pontiac\, \,Pontiac\, MI\, 48342
DTSTART:20260528T200000
DTEND:20260528T230000
SUMMARY:Jay Pharaoh
DESCRIPTION:From SNL's impression-legend to host of FOX’s hit game show "The Quiz With Balls\," Jay brings his signature high‑energy storytelling and unstoppable momentum to Pontiac\, MI for one night only. Best known for his spot-on impressions\, Pharoah spent six seasons as a cast member on NBC’s Saturday Night Live. In 2017\, he shifted to his first leading role as ‘Floyd Mooney’ in Showtime’s White Famous\, executive-produced by Jaime Foxx. Pharoah continues to headline comedy clubs across the country throughout the year. Price: $37.35
LOCATION;ALTREP="https://www.metrotimes.com/location/flagstar-strand-theatre-for-the-performing-arts-19526220":Flagstar Strand Theatre for the Performing Arts @ 12 N. Saginaw St.\,Pontiac\,MI  48342
CATEGORIES:Stand-up
END:VEVENT
END:VCALENDAR