BEGIN:VCALENDAR
VERSION:2.0
PRODID:-//gyrobase/iCalendar//NONSGML v1.0//EN
BEGIN:VEVENT
LOCATION:22920 Woodward Ave.\,Ferndale\, \,Ferndale\, MI\, 48220
DTSTART:20260424T200000
DTEND:20260424T210000
SUMMARY:Magic Bag Presents: Lost Signals: An Electrifying Indie Rock & Dance Party
DESCRIPTION:
LOCATION;ALTREP="https://www.metrotimes.com/location/magic-bag-2129748":Magic Bag @ 22920 Woodward Ave.\,Ferndale\,MI  48220
CATEGORIES:Live/Concert
END:VEVENT
END:VCALENDAR