BEGIN:VCALENDAR
VERSION:2.0
PRODID:-//gyrobase/iCalendar//NONSGML v1.0//EN
BEGIN:VEVENT
LOCATION:2615 Wolcott St.\,Ferndale\, \,Ferndale\, MI\, 48220
DTSTART:20260425T120000
DTEND:20260425T200000
SUMMARY:Peninsular Printmaker Fair 2026
DESCRIPTION:The Peninsular Printmaker Fair is an all-Michigander printmaker fair. April 25th\, 2026 will be the 3rd annual event\, open from 12pm to 8pm. It will bring together printmakers throughout our state for a market at Urbanrest Brewery in Ferndale. At the Peninsular Printmaker Fair attendees will be able to purchase artist-made original prints and hand-printed textiles\, view demonstrations\, enjoy Urbanrest’s beverages\, and visit food trucks. Our showcased printmakers are a collection of diverse print mediums: letterpress\, woodcut\, linocut\, screen-printing\, etching\, drypoint\, intaglio\, collagraph\, and more. Printmaking is for the people! Hope to see you there.
LOCATION;ALTREP="https://www.metrotimes.com/location/urbanrest-brewing-co-9155477":Urbanrest Brewing Co. @ 2615 Wolcott St.\,Ferndale\,MI  48220
CATEGORIES:Festival,Art Fair
END:VEVENT
END:VCALENDAR