BEGIN:VCALENDAR
VERSION:2.0
PRODID:-//gyrobase/iCalendar//NONSGML v1.0//EN
BEGIN:VEVENT
LOCATION:12 N. Saginaw St.\,Pontiac\, \,Pontiac\, MI\, 48342
DTSTART:20260725T140000
DTEND:20260725T150000
SUMMARY:Summer Movie Marathon - Shrek\, Shrek 2\, Puss in Boots
DESCRIPTION:
LOCATION;ALTREP="https://www.metrotimes.com/location/flagstar-strand-theatre-for-the-performing-arts-19526220":Flagstar Strand Theatre for the Performing Arts @ 12 N. Saginaw St.\,Pontiac\,MI  48342
CATEGORIES:Screening
END:VEVENT
END:VCALENDAR