BEGIN:VCALENDAR
VERSION:2.0
PRODID:-//gyrobase/iCalendar//NONSGML v1.0//EN
BEGIN:VEVENT
LOCATION:850 Tower Dr.\,Troy\, \,Troy\, MI\, 48098
DTSTART:20260523T180000
DTEND:20260523T210000
SUMMARY:The Dinner Detective True Crime Murder Mystery Dinner Show - Troy\, MI
DESCRIPTION:North America’s largest award-winning interactive true crime murder mystery dinner show invites you into a night of laughter\, mystery\, and audience-driven intrigue. Enjoy a full dinner while a hilarious crime unfolds around you—but stay alert. The culprit is hiding in plain sight\, and before the night is over\, you could find yourself named a Prime Suspect. Now playing at Embassy Suites Troy in Troy\, MI\, this murder mystery dinner experience is unlike traditional dinner theater. Our professional actors are not in costume and are secretly planted among the guests\, creating a modern\, social\, and highly interactive evening. Each ticket includes Price: $79.39
LOCATION;ALTREP="https://www.metrotimes.com/location/embassy-suites-troy-2127708":Embassy Suites Troy @ 850 Tower Dr.\,Troy\,MI  48098
CATEGORIES:Stand-up
END:VEVENT
END:VCALENDAR