BEGIN:VCALENDAR
VERSION:2.0
PRODID:-//gyrobase/iCalendar//NONSGML v1.0//EN
BEGIN:VEVENT
LOCATION:2932 Russell St.\,Detroit\, \,Detroit\, MI\, 48207
DTSTART:20260607T100000
DTEND:20260607T160000
SUMMARY:25th Annual Spring VegFest
DESCRIPTION:VegMichigan\, a local nonprofit organization\, is hosting its 25th annual Spring VegFest at the historic Eastern Market\, and admission is free. Interest in plant-based living continues to grow and this is the place to try some of the best food options in the area. Discover a wide- variety of specialty items\, enjoy eco-friendly shopping\, and learn about organizations that are positively contributing to our community! This a family-friendly event with free cooking demonstrations and presentations\, plant-based food samples\, music\, massages from Irene’s Myomassology Institute\, a Kid Zone\, and an incredible selection of plant-based foods. Get details at https://vegmichigan.org. Price: Free Admission
LOCATION;ALTREP="https://www.metrotimes.com/location/eastern-market-shed-5-21739007":Eastern Market - Shed 5 @ 2932 Russell St.\,Detroit\,MI  48207
CATEGORIES:Festival
END:VEVENT
END:VCALENDAR