BEGIN:VCALENDAR
VERSION:2.0
PRODID:-//gyrobase/iCalendar//NONSGML v1.0//EN
BEGIN:VEVENT
LOCATION:2250 E. Stadium Blvd.\,Ann Arbor\, \,Ann Arbor\, MI\, 48104
DTSTART:20260424T170000
DTEND:20260424T180000
SUMMARY:Ukrainian fundraiser and cultural immersion
DESCRIPTION:An evening of Ukrainian cultural immersion supports much-needed medical supplies Ann Arbor\, Mich. -- A local fundraiser\, packed with emotional storytelling and the cultural beauty of Ukraine\, aims to help save lives by providing critical medical supplies. The event\, hosted locally by A2 on behalf of Blue/Yellow USA\, will be held Friday\, April 24\, at 5 p.m. (silent auction) with dinner at 6 p.m.\, at St. Francis of Assisi Church\, 2250 E. Stadium Blvd. in Ann Arbor. Speakers include: • Rima Ziuraitis\, an American volunteer combat medic who\, since the earliest days of the full-scale invasion\, has volunteered to save Price: $100-200
LOCATION;ALTREP="https://www.metrotimes.com/location/st-francis-of-assisi-church-2132053":St. Francis of Assisi Church @ 2250 E. Stadium Blvd.\,Ann Arbor\,MI  48104
CATEGORIES:Fundraiser,Dance performance
END:VEVENT
END:VCALENDAR