BEGIN:VCALENDAR
VERSION:2.0
PRODID:-//gyrobase/iCalendar//NONSGML v1.0//EN
BEGIN:VEVENT
LOCATION:26100 Northwestern Hwy\,Southfield\, \,Southfield\, MI\, 48076
DTSTART:20260509T100000
DTEND:20260509T140000
SUMMARY:Health & Wellness Fair 2026
DESCRIPTION:A Free event to provide support\, healing\, and restoration for our community members offering Free Check-Ups\, Free Lunch\, Free Classes\, Multiple Vendors & Free admission!! Price: Free
LOCATION;ALTREP="https://www.metrotimes.com/location/pearls-event-center-41015190":Pearls Event Center @ 26100 Northwestern Hwy\,Southfield\,MI  48076
CATEGORIES:Self-care
END:VEVENT
END:VCALENDAR