BEGIN:VCALENDAR
VERSION:2.0
PRODID:-//gyrobase/iCalendar//NONSGML v1.0//EN
BEGIN:VEVENT
LOCATION:2314 Caniff St.\,Hamtramck\, \,Hamtramck\, Mi\, 48212
DTSTART:20260522T200000
DTEND:20260522T233000
SUMMARY:Be Nice\, Think Twice\, A Rock Cabaret WSG Emily Rose
DESCRIPTION:An energetic and witty 20-song musical\, inviting all to explore the tricks of the mind. Songs highlight how logical fallacies and cognitive biases influence poor decisions\, make us susceptible to misinformation\, and keep us from seeing eye to eye. The lyrics are thought-provoking and humorous\, set to lively music. Audiences leave feeling energized…and perhaps with a clearer sense of how to move toward positively. Written by Jim Territo and features an outstanding lineup of local talent including vocalists Bryana Hall\, Curtis Martin\, and Jojo Shepard\, with Paco Higdon on guitar\, Stephe Brown on bass\, and Jeremy Otto on drums. Price: $10 online\, $15 at door
LOCATION;ALTREP="https://www.metrotimes.com/location/ghost-light-3924244":Ghost Light @ 2314 Caniff St.\,Hamtramck\,Mi  48212
CATEGORIES:Live/Concert
END:VEVENT
END:VCALENDAR