BEGIN:VCALENDAR
VERSION:2.0
PRODID:-//gyrobase/iCalendar//NONSGML v1.0//EN
BEGIN:VEVENT
LOCATION:29300 W 9 Mile Rd\,Farmington Hills\, \,Farmington Hills\, MI\, 48336
SUMMARY:The Well
DESCRIPTION:Every man deserves a place to be heard. That’s why DCDI launched The Well\, our men’s mental health initiative. Here\, Men can talk openly\, build resilience\, and support each other through life’s challenges. Through The Well\, DCDI is creating a safe space for men to talk openly and support each other on their mental health journeys. Together\, we’re building a healthier tomorrow. Price: Free
LOCATION;ALTREP="https://www.metrotimes.com/location/dcdi-excellence-center-41439310":DCDI Excellence Center @ 29300 W 9 Mile Rd\,Farmington Hills\,MI  48336
CATEGORIES:Support group
END:VEVENT
BEGIN:VEVENT
LOCATION:29300 W 9 Mile Rd\,Farmington Hills\, \,Farmington Hills\, MI\, 48336
DTSTART:20260528T190000
DTEND:20260528T210000
SUMMARY:The Well
DESCRIPTION:Every man deserves a place to be heard. That’s why DCDI launched The Well\, our men’s mental health initiative. Here\, Men can talk openly\, build resilience\, and support each other through life’s challenges. Through The Well\, DCDI is creating a safe space for men to talk openly and support each other on their mental health journeys. Together\, we’re building a healthier tomorrow. Price: Free
LOCATION;ALTREP="https://www.metrotimes.com/location/dcdi-excellence-center-41439310":DCDI Excellence Center @ 29300 W 9 Mile Rd\,Farmington Hills\,MI  48336
CATEGORIES:Support group
END:VEVENT
END:VCALENDAR