BEGIN:VCALENDAR
VERSION:2.0
PRODID:-//gyrobase/iCalendar//NONSGML v1.0//EN
BEGIN:VEVENT
LOCATION:12 North Saginaw Street\,Pontiac\, \,Pontiac\, MI\, 48342
DTSTART:20260621T190000
DTEND:20260621T220000
SUMMARY:Lucy Darling: You're Welcome
DESCRIPTION:After half a year of sold-out performances across North America\, “You’re Welcome” is Lucy’s answer to her fans’ demand for more: part variety spectacular\, part cabaret\, part magic show\, but always exceptionally darling. Lucy is joined by musician\, composer\, and globe-trotting juggler Mark Ettinger of the legendary Flying Karamazov Brothers. This duo’s playful banter and Mark's effortless skills at piano\, ukulele\, and array of other instruments add sparkle to Lucy’s gin-fueled antics! Price: $67
LOCATION;ALTREP="https://www.metrotimes.com/location/flagstar-strand-theatre-for-the-performing-of-arts-22353892":Flagstar Strand Theatre For The Performing of Arts @ 12 North Saginaw Street\,Pontiac\,MI  48342
CATEGORIES:Improv
END:VEVENT
END:VCALENDAR