BEGIN:VCALENDAR
VERSION:2.0
PRODID:-//gyrobase/iCalendar//NONSGML v1.0//EN
BEGIN:VEVENT
LOCATION:3655 N Squirrel Rd\,Auburn Hills\, \,Auburn Hills\, MI\, 48326
DTSTART:20260516T120000
DTEND:20260516T130000
SUMMARY:Comedy For A Cause
DESCRIPTION:Comedy for a Cause is a high-energy regional event hosted by House of Providence\, bringing together families\, businesses\, churches\, and community supporters for a night of purpose-driven entertainment. Featuring Trey Kennedy\, with openers Trey Simon and Carlos Oscar\, the event raises funds for the Providence Learning Center\, expanding access to trauma-informed education for students who need it most. Sponsors gain meaningful visibility while aligning with real community impact. Price: $25.00
LOCATION;ALTREP="https://www.metrotimes.com/location/apostolic-church-of-auburn-hills-41454361":Apostolic Church of Auburn Hills @ 3655 N Squirrel Rd\,Auburn Hills\,MI  48326
CATEGORIES:Fundraiser,Stand-up
END:VEVENT
END:VCALENDAR