BEGIN:VCALENDAR
VERSION:2.0
PRODID:-//gyrobase/iCalendar//NONSGML v1.0//EN
BEGIN:VEVENT
LOCATION:18801 Traditions Dr\,Northville\, \,Northville\, MI\, 48168
DTSTART:20260507T110000
DTEND:20260507T220000
SUMMARY:BurgerFi Northville Customer Appreciation Event
DESCRIPTION:Visit the BurgerFi Northville Facebook page for more information and details on offers\, activations and more! https://www.facebook.com/BurgerFiNorthville
LOCATION;ALTREP="https://www.metrotimes.com/location/burgerfi-41473038":BurgerFi @ 18801 Traditions Dr\,Northville\,MI  48168
CATEGORIES:Food
END:VEVENT
END:VCALENDAR