BEGIN:VCALENDAR
VERSION:2.0
PRODID:-//gyrobase/iCalendar//NONSGML v1.0//EN
BEGIN:VEVENT
LOCATION:32900 West 13 Mile Road\,Farmington Hills\, \,Farmington Hills\, MI\, 48334
SUMMARY:NFHS Presents Joseph and the Amazing Technicolor Dream Coat
DESCRIPTION:North Farmington High School proudly presents Joseph and the Amazing Technicolor Dreamcoat! This vibrant\, high-energy musical by Andrew Lloyd Webberand Tim Rice tells the beloved biblical story of Joseph\, his eleven brothers\, and the dazzling coat of many colors. Packed with unforgettable songs\, lively choreography\, and a wide variety of musical styles\, this family-friendly production celebrates perseverance\, forgiveness\, and the power of dreams. More than just a musical\, this production has become the community event of the year! Price: $12 to $15 Students and Seniors tickets only $12+ fees
LOCATION;ALTREP="https://www.metrotimes.com/location/north-farmington-high-school-auditorium-41476435":North Farmington High School Auditorium @ 32900 West 13 Mile Road\,Farmington Hills\,MI  48334
CATEGORIES:Performance
END:VEVENT
BEGIN:VEVENT
LOCATION:32900 West 13 Mile Road\,Farmington Hills\, \,Farmington Hills\, MI\, 48334
DTSTART:20260424T190000
DTEND:20260424T200000
SUMMARY:NFHS Presents Joseph and the Amazing Technicolor Dream Coat
DESCRIPTION:North Farmington High School proudly presents Joseph and the Amazing Technicolor Dreamcoat! This vibrant\, high-energy musical by Andrew Lloyd Webberand Tim Rice tells the beloved biblical story of Joseph\, his eleven brothers\, and the dazzling coat of many colors. Packed with unforgettable songs\, lively choreography\, and a wide variety of musical styles\, this family-friendly production celebrates perseverance\, forgiveness\, and the power of dreams. More than just a musical\, this production has become the community event of the year! Price: $12 to $15 Students and Seniors tickets only $12+ fees
LOCATION;ALTREP="https://www.metrotimes.com/location/north-farmington-high-school-auditorium-41476435":North Farmington High School Auditorium @ 32900 West 13 Mile Road\,Farmington Hills\,MI  48334
CATEGORIES:Performance
END:VEVENT
BEGIN:VEVENT
LOCATION:32900 West 13 Mile Road\,Farmington Hills\, \,Farmington Hills\, MI\, 48334
DTSTART:20260425T130000
DTEND:20260425T140000
SUMMARY:NFHS Presents Joseph and the Amazing Technicolor Dream Coat
DESCRIPTION:North Farmington High School proudly presents Joseph and the Amazing Technicolor Dreamcoat! This vibrant\, high-energy musical by Andrew Lloyd Webberand Tim Rice tells the beloved biblical story of Joseph\, his eleven brothers\, and the dazzling coat of many colors. Packed with unforgettable songs\, lively choreography\, and a wide variety of musical styles\, this family-friendly production celebrates perseverance\, forgiveness\, and the power of dreams. More than just a musical\, this production has become the community event of the year! Price: $12 to $15 Students and Seniors tickets only $12+ fees
LOCATION;ALTREP="https://www.metrotimes.com/location/north-farmington-high-school-auditorium-41476435":North Farmington High School Auditorium @ 32900 West 13 Mile Road\,Farmington Hills\,MI  48334
CATEGORIES:Performance
END:VEVENT
BEGIN:VEVENT
LOCATION:32900 West 13 Mile Road\,Farmington Hills\, \,Farmington Hills\, MI\, 48334
DTSTART:20260425T190000
DTEND:20260425T200000
SUMMARY:NFHS Presents Joseph and the Amazing Technicolor Dream Coat
DESCRIPTION:North Farmington High School proudly presents Joseph and the Amazing Technicolor Dreamcoat! This vibrant\, high-energy musical by Andrew Lloyd Webberand Tim Rice tells the beloved biblical story of Joseph\, his eleven brothers\, and the dazzling coat of many colors. Packed with unforgettable songs\, lively choreography\, and a wide variety of musical styles\, this family-friendly production celebrates perseverance\, forgiveness\, and the power of dreams. More than just a musical\, this production has become the community event of the year! Price: $12 to $15 Students and Seniors tickets only $12+ fees
LOCATION;ALTREP="https://www.metrotimes.com/location/north-farmington-high-school-auditorium-41476435":North Farmington High School Auditorium @ 32900 West 13 Mile Road\,Farmington Hills\,MI  48334
CATEGORIES:Performance
END:VEVENT
END:VCALENDAR