BEGIN:VCALENDAR
VERSION:2.0
PRODID:-//gyrobase/iCalendar//NONSGML v1.0//EN
BEGIN:VEVENT
LOCATION:350 Madison St.\,Detroit\, \,Detroit\, MI\, 48226
DTSTART:20260423T190000
DTEND:20260423T200000
SUMMARY:M.L. Liebler 'Hound Dog' book release
DESCRIPTION:From award-winning Detroit poet M.L. Liebler comes a heartfelt\, thumping\, and wide-ranging memoir of a life lived with music\, muses\, and the magic of the written word. From Elvis and Bob Dylan\, to Robbie Robertson\, Hüsker Dü\, and Eminem\, Liebler treads his well-traveled road using musical signposts that have defined a generation of artists. Throughout\, his love for family\, friends\, and faith shine brightest\, and we bear witness to the life of a man who has spent over fifty years championing artistic expression in all its forms. Hound Dog is nothing less than the album of M.L. Liebler's life.
LOCATION;ALTREP="https://www.metrotimes.com/location/arethas-jazz-cafe-2134605":Aretha's Jazz Cafe @ 350 Madison St.\,Detroit\,MI  48226
CATEGORIES:Poetry
END:VEVENT
END:VCALENDAR